BEGIN:VCALENDAR
VERSION:2.0
PRODID:-//Wine Routes - Your Guide to Wine Country - ECPv6.15.20//NONSGML v1.0//EN
CALSCALE:GREGORIAN
METHOD:PUBLISH
X-ORIGINAL-URL:https://blog.wineroutes.com
X-WR-CALDESC:Events for Wine Routes - Your Guide to Wine Country
REFRESH-INTERVAL;VALUE=DURATION:PT1H
X-Robots-Tag:noindex
X-PUBLISHED-TTL:PT1H
BEGIN:VTIMEZONE
TZID:America/Los_Angeles
BEGIN:DAYLIGHT
TZOFFSETFROM:-0800
TZOFFSETTO:-0700
TZNAME:PDT
DTSTART:20250309T100000
END:DAYLIGHT
BEGIN:STANDARD
TZOFFSETFROM:-0700
TZOFFSETTO:-0800
TZNAME:PST
DTSTART:20251102T090000
END:STANDARD
BEGIN:DAYLIGHT
TZOFFSETFROM:-0800
TZOFFSETTO:-0700
TZNAME:PDT
DTSTART:20260308T100000
END:DAYLIGHT
BEGIN:STANDARD
TZOFFSETFROM:-0700
TZOFFSETTO:-0800
TZNAME:PST
DTSTART:20261101T090000
END:STANDARD
BEGIN:DAYLIGHT
TZOFFSETFROM:-0800
TZOFFSETTO:-0700
TZNAME:PDT
DTSTART:20270314T100000
END:DAYLIGHT
BEGIN:STANDARD
TZOFFSETFROM:-0700
TZOFFSETTO:-0800
TZNAME:PST
DTSTART:20271107T090000
END:STANDARD
END:VTIMEZONE
BEGIN:VEVENT
DTSTART;TZID=America/Los_Angeles:20260322T080000
DTEND;TZID=America/Los_Angeles:20260322T170000
DTSTAMP:20260419T105123
CREATED:20260112T172353Z
LAST-MODIFIED:20260112T172353Z
UID:10000323-1774166400-1774198800@blog.wineroutes.com
SUMMARY:Camp CASS: Olive Oil & Cheese Pairing Class
DESCRIPTION:Join CASS Winery for a unique Olive Oil and Cheese tasting that layers education with a delightful sensory experience. When local extra virgin & flavored olive oils are paired expertly with artisan cheeses while you sip CASS Wine\, all the senses are engaged in the best way. This is a class that keeps giving as you meet the farmer\, learn from the Chef and find ways to level up your own entertaining and cheffing. \nShare this:\n				Share on X (Opens in new window)\n				X\n			\n				Share on Pinterest (Opens in new window)\n				Pinterest\n			\n				Share on Facebook (Opens in new window)\n				Facebook\n			Like this:Like Loading...
URL:https://blog.wineroutes.com/event/camp-cass-olive-oil-cheese-pairing-class/2026-03-22/1/
LOCATION:CASS Winery\, 7350 Linne Road\, Paso Robles\, CA\, 93446\, United States
CATEGORIES:Classes,Education,Food & Wine
ATTACH;FMTTYPE=image/png:https://blog.wineroutes.com/wp-content/uploads/2026/01/Olive-and-300-x-300-px.png
ORGANIZER;CN="CASS Winery":MAILTO:campcass@casswinery.com
END:VEVENT
BEGIN:VEVENT
DTSTART;TZID=America/Los_Angeles:20260322T130000
DTEND;TZID=America/Los_Angeles:20260322T150000
DTSTAMP:20260419T105123
CREATED:20260112T172353Z
LAST-MODIFIED:20260112T172353Z
UID:10000324-1774184400-1774191600@blog.wineroutes.com
SUMMARY:Camp CASS: Olive Oil & Cheese Pairing Class
DESCRIPTION:Join CASS Winery for a unique Olive Oil and Cheese tasting that layers education with a delightful sensory experience. When local extra virgin & flavored olive oils are paired expertly with artisan cheeses while you sip CASS Wine\, all the senses are engaged in the best way. This is a class that keeps giving as you meet the farmer\, learn from the Chef and find ways to level up your own entertaining and cheffing. \nShare this:\n				Share on X (Opens in new window)\n				X\n			\n				Share on Pinterest (Opens in new window)\n				Pinterest\n			\n				Share on Facebook (Opens in new window)\n				Facebook\n			Like this:Like Loading...
URL:https://blog.wineroutes.com/event/camp-cass-olive-oil-cheese-pairing-class/2026-03-22/2/
LOCATION:CASS Winery\, 7350 Linne Road\, Paso Robles\, CA\, 93446\, United States
CATEGORIES:Classes,Education,Food & Wine
ATTACH;FMTTYPE=image/png:https://blog.wineroutes.com/wp-content/uploads/2026/01/Olive-and-300-x-300-px.png
ORGANIZER;CN="CASS Winery":MAILTO:campcass@casswinery.com
END:VEVENT
END:VCALENDAR